BEGIN:VCALENDAR
VERSION:2.0
PRODID:-//eventon.com NONSGML v1.0//EN
CALSCALE:GREGORIAN
METHOD:PUBLISH
BEGIN:VEVENT
UID:69e73114a7b20
DTSTAMP:20260421T081100Z
DTSTART:20190705T100000Z
DTEND:20190705T103000Z
LOCATION:Parc Gérard-Laframboise
SUMMARY:Tour CIBC de la Fondation Charles-Bruneau
DESCRIPTION:La Ville de Saint-Philippe est heureuse d&rsquo;accueillir la 2
 4e édition du Tour CIBC de la Fondation Charles-Bruneau vendredi prochain 
 le 5 juillet entre 10 h et 10 h 30 au Parc Gérard-Laframboise. On vous inv
 ite en grand nombre à venir accueillir et encourager les cyclistes qui pé
 daleront dans notre région[..]\nhttps://ville.saintphilippe.quebec/eveneme
 nt/tour-cibc-de-la-fondation-charles-bruneau-2/
URL:https://ville.saintphilippe.quebec/evenement/tour-cibc-de-la-fondation-charles-bruneau-2/
END:VEVENT
END:VCALENDAR