BEGIN:VCALENDAR
VERSION:2.0
PRODID:-//eventon.com NONSGML v1.0//EN
CALSCALE:GREGORIAN
METHOD:PUBLISH
BEGIN:VEVENT
UID:69e730fca8ed4
DTSTAMP:20260421T081036Z
DTSTART:20191031T173000Z
DTEND:20191031T200000Z
LOCATION:Complexe Élodie-P.-Babin 2225 route Édouard-VII
SUMMARY:Halloween "Les fantômes d'autrefois"
DESCRIPTION:En raison des précipitations de pluie annoncées\,  nous vous 
 recevrons à l’intérieur du Complexe Élodie-P.-Babin pour une soirée a
 u chaud et au sec! Grande fête de l’halloween gratuite pour les petits e
 t les grands! Pour le 275e anniversaire\,  on revisite les fantômes d&rsqu
 o;autrefois\,  à travers les films et les époques![..]\nhttps://ville.sai
 ntphilippe.quebec/evenement/halloween-les-fantomes-dautrefois/
URL:https://ville.saintphilippe.quebec/evenement/halloween-les-fantomes-dautrefois/
END:VEVENT
END:VCALENDAR