BEGIN:VCALENDAR
VERSION:2.0
PRODID:-//eventon.com NONSGML v1.0//EN
CALSCALE:GREGORIAN
METHOD:PUBLISH
BEGIN:VEVENT
UID:69e7347cbd2e3
DTSTAMP:20260421T082532Z
DTSTART:20190929T083000Z
DTEND:20190929T235000Z
LOCATION:Complexe Élodie-P.-Babin 2225 route Édouard-VII
SUMMARY:Rallye "De la seigneurie à la ville"
DESCRIPTION:Des beaux prix à gagner: 275$ de Botanix Faucher Plantes &amp;
  Pavés de La Prairie 150$  certificat-cadeau au Quartier Dix30  100$ ce
 rtificat-cadeau – entrée familiale à l’Exporail musée ferroviaire et
  au Laser Game Évolution À l&rsquo;occasion du 275e anniversaire\,  venez
  découvrir en famille ou entre amis Saint-Philippe et ses trésors cachés
 .[..]\nhttps://ville.saintphilippe.quebec/evenement/rallye-de-la-seigneurie
 -a-la-ville/
URL:https://ville.saintphilippe.quebec/evenement/rallye-de-la-seigneurie-a-la-ville/
END:VEVENT
END:VCALENDAR