BEGIN:VCALENDAR
VERSION:2.0
PRODID:-//eventon.com NONSGML v1.0//EN
CALSCALE:GREGORIAN
METHOD:PUBLISH
BEGIN:VEVENT
UID:69e4ee2c45431
DTSTAMP:20260419T150100Z
DTSTART:20190921T173000Z
DTEND:20190921T235000Z
LOCATION:Complexe Élodie-P.-Babin 2225 route Édouard-VII
SUMMARY:Soirée d'humour de la Maison des Jeunes
DESCRIPTION:À l&rsquo;occasion du 275e anniversaire\,  la Maison des Jeune
 s « Au Repère » vous convie à un drôle de souper-spectacle. Achat de
  billets au coût de 25 $: 450 659-7701 poste 258 *Heure à confirmer &nbsp
 ;\nhttps://ville.saintphilippe.quebec/evenement/soiree-dhumour-de-la-maison
 -des-jeunes/
URL:https://ville.saintphilippe.quebec/evenement/soiree-dhumour-de-la-maison-des-jeunes/
END:VEVENT
END:VCALENDAR