BEGIN:VCALENDAR
VERSION:2.0
PRODID:-//eventon.com NONSGML v1.0//EN
CALSCALE:GREGORIAN
METHOD:PUBLISH
BEGIN:VEVENT
UID:69e60498321f6
DTSTAMP:20260420T104856Z
DTSTART:20190424T103000Z
DTEND:20190424T235000Z
LOCATION:Bibliothèque Le Vaisseau d’Or 2223\,  route Édouard-VII\,  Saint-Philippe
SUMMARY:Heure du conte - avec Nadine Poissant
DESCRIPTION:Dans le cadre de la Semaine de la littérature\,  on vous invit
 e à une heure du conte spéciale avec Nadine Poissant\,  citoyenne de Sain
 t-Philippe et auteure de la comptine « tu es mon étoile ». Gratuit Ins
 cription requise : bibliotheque@ville.saintphilippe.quebec &nbsp;\nhttps://
 ville.saintphilippe.quebec/evenement/heure-du-conte-avec-nadine-poissant/
URL:https://ville.saintphilippe.quebec/evenement/heure-du-conte-avec-nadine-poissant/
END:VEVENT
END:VCALENDAR