BEGIN:VCALENDAR
VERSION:2.0
PRODID:-//eventon.com NONSGML v1.0//EN
CALSCALE:GREGORIAN
METHOD:PUBLISH
BEGIN:VEVENT
UID:69e748a49cad7
DTSTAMP:20260421T095132Z
DTSTART:20190308T190000Z
DTEND:20190308T235000Z
LOCATION:Complexe Élodie-P.-Babin 2225 route Édouard-VII
SUMMARY:Présentation du film "Le retour de Mary Poppins"
DESCRIPTION:Gratuit\,  apportez votre pop corn! Le Retour de Mary Poppins 
 (Mary Poppins Returns) est un film musical américain réalisé par Rob 
 Marshall\,  et sorti en 2018. Il fait suite au film Mary Poppins sorti e
 n 1964\,  lui-même adapté du roman du même nom de Pamela L. Travers. 
 Le film fut nommé dans 4 catégories aux Golden Globes\,  et respectiveme
 nt 3 fois[..]\nhttps://ville.saintphilippe.quebec/evenement/presentation-du
 -film-le-retour-de-mary-poppins/
URL:https://ville.saintphilippe.quebec/evenement/presentation-du-film-le-retour-de-mary-poppins/
END:VEVENT
END:VCALENDAR