BEGIN:VCALENDAR
VERSION:2.0
PRODID:-//eventon.com NONSGML v1.0//EN
CALSCALE:GREGORIAN
METHOD:PUBLISH
BEGIN:VEVENT
UID:69e61d6b31de0
DTSTAMP:20260420T123451Z
DTSTART:20190308T100000Z
DTEND:20190308T120000Z
LOCATION:Complexe Élodie-P.-Babin 2225 route Édouard-VII
SUMMARY:Semaine de relâche | Atelier de cuisine avec Madame Santé
DESCRIPTION:Venez vous amuser avec les aliments en créant des recettes san
 té succulentes pour le palais. Au menu salade mexicaine et rouleau de prin
 temps\,  fabriqués par vous\,  petits et grands cuistots. Gratuit\,  inscr
 iption requise: 450 659-7701 poste 258 Pour connaître toutes les activité
 s de la semaine de relâche\,  cliquez ici.\nhttps://ville.saintphilippe.qu
 ebec/evenement/semaine-de-relache-atelier-de-cuisine-avec-madame-sante/
URL:https://ville.saintphilippe.quebec/evenement/semaine-de-relache-atelier-de-cuisine-avec-madame-sante/
END:VEVENT
END:VCALENDAR