BEGIN:VCALENDAR
VERSION:2.0
PRODID:-//eventon.com NONSGML v1.0//EN
CALSCALE:GREGORIAN
METHOD:PUBLISH
BEGIN:VEVENT
UID:69e60453ebcf5
DTSTAMP:20260420T104747Z
DTSTART:20190306T133000Z
DTEND:20190306T235000Z
LOCATION:Complexe Élodie-P.-Babin 2225 route Édouard-VII
SUMMARY:Semaine de relâche | Atelier théâtre d'ombres
DESCRIPTION:Équipée de sa boîte à ombrages\,  de son rétroprojecteur\,
   de ses décors et de ses musiques\,  Madame Pissenlit vous embarque\,  da
 ns son aventure\,  à la découverte d’une technique théâtrale à mi-ch
 emin entre le théâtre d’ombre\,  le cinéma d’animation et le conte f
 antastique. Gratuit\,  inscription requise: 450 659-7701 poste 258 Pour[..]
 \nhttps://ville.saintphilippe.quebec/evenement/semaine-de-relache-atelier-t
 heatre-dombres/
URL:https://ville.saintphilippe.quebec/evenement/semaine-de-relache-atelier-theatre-dombres/
END:VEVENT
END:VCALENDAR