BEGIN:VCALENDAR
VERSION:2.0
PRODID:-//eventon.com NONSGML v1.0//EN
CALSCALE:GREGORIAN
METHOD:PUBLISH
BEGIN:VEVENT
UID:69e5eafb5f5e7
DTSTAMP:20260420T085939Z
DTSTART:20190305T130000Z
DTEND:20190305T160000Z
LOCATION:école De-La-Traversée 63\,  rue Perron
SUMMARY:Semaine de relâche | Badminton
DESCRIPTION:Venez vous amuser en famille en pratiquant ce sport très popul
 aire. Le tout sous la supervision d’animateurs. Apportez votre équipemen
 t. Gratuit\,  aucune réservation requise. Pour connaître toutes les activ
 ités de la semaine de relâche\,  cliquez ici.\nhttps://ville.saintphilipp
 e.quebec/evenement/semaine-de-relache-badminton/
URL:https://ville.saintphilippe.quebec/evenement/semaine-de-relache-badminton/
END:VEVENT
END:VCALENDAR