BEGIN:VCALENDAR
VERSION:2.0
PRODID:-//eventon.com NONSGML v1.0//EN
CALSCALE:GREGORIAN
METHOD:PUBLISH
BEGIN:VEVENT
UID:69e73113af3a5
DTSTAMP:20260421T081059Z
DTSTART:20191002T190000Z
DTEND:20191002T200000Z
LOCATION:BibliothÃ¨que Le Vaisseau dâ€™Or 2223\,  route Ã‰douard-VII\,  Saint-Philippe
SUMMARY:ConfÃ©rence | "COMPOSTELLE AU BUREAU" (prÃ©vention de l'Ã©puisement professionnel)
DESCRIPTION:ConfÃ©rence par Jacques Morin Venez traverser l&rsquo;Espagne Ã
   pied en 50 minutes avec un passionnÃ© du Chemin de Compostelle. Formateur
  et confÃ©rencier sur les thÃ¨mes du mieux-Ãªtre et de la sauvegarde du cap
 ital humain\,  Jacques Morin partage les parallÃ¨les entre cette expÃ©rienc
 e physique et le quotidien au travail. Gratuit Inscription[..]\nhttps://vil
 le.saintphilippe.quebec/evenement/conference-compostelle-au-bureau-preventi
 on-de-lepuisement-professionnel/
URL:https://ville.saintphilippe.quebec/evenement/conference-compostelle-au-bureau-prevention-de-lepuisement-professionnel/
END:VEVENT
END:VCALENDAR