BEGIN:VCALENDAR
VERSION:2.0
PRODID:-//eventon.com NONSGML v1.0//EN
CALSCALE:GREGORIAN
METHOD:PUBLISH
BEGIN:VEVENT
UID:69e8a1ebe2b2b
DTSTAMP:20260422T102443Z
DTSTART:20181205T133000Z
DTEND:20181205T235000Z
LOCATION:Bibliothèque Le Vaisseau d’Or 2223\,  route Édouard-VII\,  Saint-Philippe
SUMMARY:ANNULÉE | Conférence | "Aux origines de Noël"
DESCRIPTION:Conférence annulée *** Conférence par Isabelle Matte\,  anth
 ropologue Noël célèbre la naissance du Christ. Pour les Occidentaux\,  c
 ’est la période de l’année où tout s’arrête\,  moment propice pou
 r les retrouvailles amicales et familiales\,  un temps de festivités entre
  tous. Fête de la lumière\,  Noël reprend la longue tradition de l’anc
 ien[..]\nhttps://ville.saintphilippe.quebec/evenement/conference-aux-origin
 es-de-noel/
URL:https://ville.saintphilippe.quebec/evenement/conference-aux-origines-de-noel/
END:VEVENT
END:VCALENDAR