BEGIN:VCALENDAR
VERSION:2.0
PRODID:-//eventon.com NONSGML v1.0//EN
CALSCALE:GREGORIAN
METHOD:PUBLISH
BEGIN:VEVENT
UID:69e5e9e010d78
DTSTAMP:20260420T085456Z
DTSTART:20190116T180000Z
DTEND:20190116T190000Z
LOCATION:Bibliothèque Le Vaisseau d’Or 2223\,  route Édouard-VII\,  Saint-Philippe
SUMMARY:Heure du conte en pyjama
DESCRIPTION:Nouveauté pour l&rsquo;année 2019\,  une fois par mois\,  on 
 invite les tout-petits à une heure du conte en pyjama. Gratuit. Pour les 2
  à 6 ans. Réservation obligatoire: bibliotheque@ville.saintphilippe.quebe
 c &nbsp;\nhttps://ville.saintphilippe.quebec/evenement/nouveaute-heure-du-c
 onte-en-pyjama/
URL:https://ville.saintphilippe.quebec/evenement/nouveaute-heure-du-conte-en-pyjama/
END:VEVENT
END:VCALENDAR