BEGIN:VCALENDAR
VERSION:2.0
PRODID:-//eventon.com NONSGML v1.0//EN
CALSCALE:GREGORIAN
METHOD:PUBLISH
BEGIN:VEVENT
UID:69e736be5fa69
DTSTAMP:20260421T083510Z
DTSTART:20180929T100000Z
DTEND:20180929T110000Z
LOCATION:Complexe Élodie-P.-Babin 2225 route Édouard-VII
SUMMARY:Les journées de la culture | Margot et Victor Fafouin
DESCRIPTION:La Ville participe aux journées de la culture les 29 et 30 sep
 tembre prochains et invite les 4 à 8 ans au spectacle « Margot et Victor
  Fafouin »\,  présenté à bord de l’autobus-théâtre Tortue berlue. 
 *Gratuit* Prière de réserver vos places au Service des loisirs\,  de la c
 ulture et de la[..]\nhttps://ville.saintphilippe.quebec/evenement/les-journ
 ees-de-la-culture-margot-et-victor-fafouin/
URL:https://ville.saintphilippe.quebec/evenement/les-journees-de-la-culture-margot-et-victor-fafouin/
END:VEVENT
END:VCALENDAR