BEGIN:VCALENDAR
VERSION:2.0
PRODID:-//eventon.com NONSGML v1.0//EN
CALSCALE:GREGORIAN
METHOD:PUBLISH
BEGIN:VEVENT
UID:69e743181590c
DTSTAMP:20260421T092752Z
DTSTART:20180825T110000Z
DTEND:20180825T200000Z
LOCATION:Parc Gérard-Laframboise
SUMMARY:Compétition de Skate
DESCRIPTION:Première édition de Compétition de SKATE présentée par le 
 Spin SKATEPARK DIX30. L’événement est gratuit\,  inscription sur place 
 dès 11 h. DJ\,  animation\,  activités d’initiation aux sports de planc
 he &amp; atelier d’entretien. PRIX DE PARTICIPATION\nhttps://ville.saintp
 hilippe.quebec/evenement/competition-de-skate/
URL:https://ville.saintphilippe.quebec/evenement/competition-de-skate/
END:VEVENT
END:VCALENDAR