BEGIN:VCALENDAR
VERSION:2.0
PRODID:-//eventon.com NONSGML v1.0//EN
CALSCALE:GREGORIAN
METHOD:PUBLISH
BEGIN:VEVENT
UID:69e5ea15dd755
DTSTAMP:20260420T085549Z
DTSTART:20180627T100000Z
DTEND:20180627T120000Z
LOCATION:Complexe Élodie-P.-Babin 2225 route Édouard-VII
SUMMARY:Clinique de vérification de sièges d'auto
DESCRIPTION:Les agents aux relations communautaires de la Régie intermunic
 ipale de police Roussillon invitent les résidents de Saint-Philippe à fai
 re vérifier gratuitement l’installation de leur siège d’auto pour enf
 ants. Date : Mercredi le 27 juin 2018 Heure : 10 h 00 à 12 h 00 Endroit : 
 Stationnement du Complexe Élodie-P.-Babin[..]\nhttps://ville.saintphilippe
 .quebec/evenement/clinique-de-verification-de-sieges-dauto/
URL:https://ville.saintphilippe.quebec/evenement/clinique-de-verification-de-sieges-dauto/
END:VEVENT
END:VCALENDAR