BEGIN:VCALENDAR
VERSION:2.0
PRODID:-//eventon.com NONSGML v1.0//EN
CALSCALE:GREGORIAN
METHOD:PUBLISH
BEGIN:VEVENT
UID:69e603da24562
DTSTAMP:20260420T104546Z
DTSTART:20180526T103000Z
DTEND:20180526T120000Z
LOCATION:MRC de Roussillon 260\,  rue Saint-Pierre
SUMMARY:Atelier | Compostage domestique
DESCRIPTION:Atelier sur le compostage domestique &#8211; Gratuit Profitez d
 e l’occasion pour vous initier au compostage domestique ou pour approfond
 ir vos connaissances! Une période de mise en pratique est également prév
 ue dans le cadre de cette activité. Samedi 26 mai 10 h 30 à 12 h MRC de R
 oussillon 260\,  rue[..]\nhttps://ville.saintphilippe.quebec/evenement/atel
 ier-compostage-domestique/
URL:https://ville.saintphilippe.quebec/evenement/atelier-compostage-domestique/
END:VEVENT
END:VCALENDAR