BEGIN:VCALENDAR
VERSION:2.0
PRODID:-//eventon.com NONSGML v1.0//EN
CALSCALE:GREGORIAN
METHOD:PUBLISH
BEGIN:VEVENT
UID:69e5ea11ec715
DTSTAMP:20260420T085545Z
DTSTART:20180421T073000Z
DTEND:20180421T140000Z
LOCATION:Garage municipal 68\,  montée Monette
SUMMARY:Écocentre gratuit
DESCRIPTION:À l&rsquo;occasion du jour de la terre\,  la Ville de Saint-Ph
 ilippe ouvre l’écocentre gratuitement le samedi 21 avril de 7 h 30 @ 14 
 h. Vous faites le grand ménage du printemps ?  Profitez-en pour disposer 
 de : Peinture Vos « sertplusàrien » (matériel informatique) Piles re
 chargeables et alcalines (incluant les batteries de[..]\nhttps://ville.sain
 tphilippe.quebec/evenement/ecocentre-gratuit/
URL:https://ville.saintphilippe.quebec/evenement/ecocentre-gratuit/
END:VEVENT
END:VCALENDAR