BEGIN:VCALENDAR
VERSION:2.0
PRODID:-//eventon.com NONSGML v1.0//EN
CALSCALE:GREGORIAN
METHOD:PUBLISH
BEGIN:VEVENT
UID:69e75de9642f3
DTSTAMP:20260421T112217Z
DTSTART:20180413T183000Z
DTEND:20180413T213000Z
LOCATION:
SUMMARY:Atelier de HIP HOP\,  comic Jam et Tricot
DESCRIPTION:HIP HOP / RAP\,  COMIC JAM &amp; TRICOT GRAFFITI avec Ramon Vit
 esse Activité gratuite pour les 12-17 ans à la Maison Des Jeunes (MDJ) de
  Saint-Philippe\,  dans le cadre du projet de médiation culturelle. Vendre
 di 13 avril de 18h30 à 21h30 mini spectacle Hip Hop / Rap avec Volk\,  Aph
 exia[..]\nhttps://ville.saintphilippe.quebec/evenement/atelier-de-hip-hop-c
 omic-jam-et-tricot/
URL:https://ville.saintphilippe.quebec/evenement/atelier-de-hip-hop-comic-jam-et-tricot/
END:VEVENT
END:VCALENDAR