BEGIN:VCALENDAR
VERSION:2.0
PRODID:-//eventon.com NONSGML v1.0//EN
CALSCALE:GREGORIAN
METHOD:PUBLISH
BEGIN:VEVENT
UID:69e7487239921
DTSTAMP:20260421T095042Z
DTSTART:20180420T140000Z
DTEND:20180421T160000Z
LOCATION:Pavillon de l&#039;île 480\,  boulevard d'Youville
SUMMARY:Salon du livre à Chateauguay
DESCRIPTION:2e édition du Salon du livre 20 avril de 14 h à 20 h 21 avril
  de 10 h à 16 h au Pavillon de l&rsquo;île à Châteauguay Entrée gratui
 te Tous les détails: roussillon.ca &nbsp; &nbsp;\nhttps://ville.saintphili
 ppe.quebec/evenement/salon-du-livre-a-chateauguay/
URL:https://ville.saintphilippe.quebec/evenement/salon-du-livre-a-chateauguay/
END:VEVENT
END:VCALENDAR