BEGIN:VCALENDAR
VERSION:2.0
PRODID:-//eventon.com NONSGML v1.0//EN
CALSCALE:GREGORIAN
METHOD:PUBLISH
BEGIN:VEVENT
UID:69e7315ad6553
DTSTAMP:20260421T081210Z
DTSTART:20180326T190000Z
DTEND:20180326T235000Z
LOCATION:Complexe Élodie-P.-Babin 2225 route Édouard-VII
SUMMARY:Conseil de ville | Séance extraordinaire
DESCRIPTION:La séance extraordinaire du conseil municipal se tiendra à 19
  h au Complexe Élodie-P.-Babin. Voici le lien pour obtenir l&rsquo;ordre d
 u jour (PDF)\nhttps://ville.saintphilippe.quebec/evenement/conseil-de-ville
 -seance-extraordinaire/
URL:https://ville.saintphilippe.quebec/evenement/conseil-de-ville-seance-extraordinaire/
END:VEVENT
END:VCALENDAR