BEGIN:VCALENDAR
VERSION:2.0
PRODID:-//eventon.com NONSGML v1.0//EN
CALSCALE:GREGORIAN
METHOD:PUBLISH
BEGIN:VEVENT
UID:69e5ea381d971
DTSTAMP:20260420T085624Z
DTSTART:20181009T190000Z
DTEND:20181009T235000Z
LOCATION:Complexe Élodie-P.-Babin 2225 route Édouard-VII
SUMMARY:Conseil de ville
DESCRIPTION:La séance du conseil municipal se tiendra à 19 h au Complexe 
 Élodie-P.-Babin. Voici le lien pour obtenir l’ordre du jour (PDF).\nhtt
 ps://ville.saintphilippe.quebec/evenement/conseil-de-ville-octobre/
URL:https://ville.saintphilippe.quebec/evenement/conseil-de-ville-octobre/
END:VEVENT
END:VCALENDAR