BEGIN:VCALENDAR
VERSION:2.0
PRODID:-//eventon.com NONSGML v1.0//EN
CALSCALE:GREGORIAN
METHOD:PUBLISH
BEGIN:VEVENT
UID:69e5ef2fc394d
DTSTAMP:20260420T091735Z
DTSTART:20180828T190000Z
DTEND:20180828T235000Z
LOCATION:Complexe Élodie-P.-Babin 2225 route Édouard-VII
SUMMARY:Conseil de ville
DESCRIPTION:La séance du conseil municipal se tiendra à 19 h au Complexe 
 Élodie-P.-Babin. Ordre du jour à venir.\nhttps://ville.saintphilippe.queb
 ec/evenement/conseil-de-ville-aout/
URL:https://ville.saintphilippe.quebec/evenement/conseil-de-ville-aout/
END:VEVENT
END:VCALENDAR