BEGIN:VCALENDAR
VERSION:2.0
PRODID:-//eventon.com NONSGML v1.0//EN
CALSCALE:GREGORIAN
METHOD:PUBLISH
BEGIN:VEVENT
UID:69e603c3c5387
DTSTAMP:20260420T104523Z
DTSTART:20180710T190000Z
DTEND:20180710T235000Z
LOCATION:Complexe Ã‰lodie-P.-Babin 2225 route Ã‰douard-VII
SUMMARY:Conseil de ville
DESCRIPTION:SÃ©ance du Conseil La sÃ©ance du conseil municipal se tiendra Ã
   19 h au Complexe Ã‰lodie-P-.Babin. Voici le lien pour obtenir lâ€™ordre d
 u jourÂ (PDF).\nhttps://ville.saintphilippe.quebec/evenement/conseil-de-vil
 le-juillet/
URL:https://ville.saintphilippe.quebec/evenement/conseil-de-ville-juillet/
END:VEVENT
END:VCALENDAR