BEGIN:VCALENDAR
VERSION:2.0
PRODID:-//eventon.com NONSGML v1.0//EN
CALSCALE:GREGORIAN
METHOD:PUBLISH
BEGIN:VEVENT
UID:69e7473ad0e9a
DTSTAMP:20260421T094530Z
DTSTART:20260411T093000Z
DTEND:20260411T113000Z
LOCATION:Bibliothèque Le Vaisseau d’Or 2223\,  route Édouard-VII\,  Saint-Philippe
SUMMARY:Découverte de jeux de société
DESCRIPTION:Découvrez des jeux de société variés dans une ambiance conv
 iviale. Apprenez\,  jouez et partagez un moment ludique entre passionnés e
 t curieux! Gratuit\nhttps://ville.saintphilippe.quebec/evenement/decouverte
 -de-jeux-de-societe/
URL:https://ville.saintphilippe.quebec/evenement/decouverte-de-jeux-de-societe/
END:VEVENT
END:VCALENDAR