BEGIN:VCALENDAR
VERSION:2.0
PRODID:-//eventon.com NONSGML v1.0//EN
CALSCALE:GREGORIAN
METHOD:PUBLISH
BEGIN:VEVENT
UID:69e7720619770
DTSTAMP:20260421T124806Z
DTSTART:20260210T233000Z
DTEND:20260211T001500Z
LOCATION:Bibliothèque Le Vaisseau d’Or 2223\,  route Édouard-VII\,  Saint-Philippe
SUMMARY:Heure du conte en pyjama
DESCRIPTION:Conçues et animées par le service d’animation P’tits cœu
 rs contes Les heures du conte stimulent la passion de la lecture. Une excel
 lente façon de découvrir des livres adaptés à l’âge de vos enfants. 
 Martine Moreau\,  éducatrice spécialisée et conteuse\,  présente des ac
 tivités parents-enfants et des histoires interactives qui favorisent le[..
 ]\nhttps://ville.saintphilippe.quebec/evenement/heure-du-conte-en-pyjama-6/
URL:https://ville.saintphilippe.quebec/evenement/heure-du-conte-en-pyjama-6/
END:VEVENT
END:VCALENDAR