BEGIN:VCALENDAR
VERSION:2.0
PRODID:-//eventon.com NONSGML v1.0//EN
CALSCALE:GREGORIAN
METHOD:PUBLISH
BEGIN:VEVENT
UID:69e75b4799165
DTSTAMP:20260421T111103Z
DTSTART:20251026T133000Z
DTEND:20251026T150000Z
LOCATION:Bibliothèque Le Vaisseau d’Or 2223\,  route Édouard-VII\,  Saint-Philippe
SUMMARY:Casse-tête cubique
DESCRIPTION:Cet atelier allie bricolage\,  coloriage et habiletés manuelle
 s ! Crée ton propre jeu de casse-tête cubique personnalisé en inventan
 t des personnages aussi monstrueux que colorés. Inscription obligatoire v
 ia Sport-plus\nhttps://ville.saintphilippe.quebec/evenement/casse-tete-cubi
 que/
URL:https://ville.saintphilippe.quebec/evenement/casse-tete-cubique/
END:VEVENT
END:VCALENDAR