BEGIN:VCALENDAR
VERSION:2.0
PRODID:-//eventon.com NONSGML v1.0//EN
CALSCALE:GREGORIAN
METHOD:PUBLISH
BEGIN:VEVENT
UID:69e745940ef81
DTSTAMP:20260421T093828Z
DTSTART:20251012T133000Z
DTEND:20251012T143000Z
LOCATION:Bibliothèque Le Vaisseau d’Or 2223\,  route Édouard-VII\,  Saint-Philippe
SUMMARY:Au son des histoires
DESCRIPTION:Partez à la découverte de la voix dans cet atelier éducatif 
 et ludique où les enfants s’amuseront à se délier la langue et jouer a
 vec les sons que produisent leur voix\,  pour ensuite se laisser raconter u
 ne merveilleuse histoire. C’est un atelier d’expression vocale (un brin
  théâtral !) qui fait[..]\nhttps://ville.saintphilippe.quebec/evenement/a
 u-son-des-histoires/
URL:https://ville.saintphilippe.quebec/evenement/au-son-des-histoires/
END:VEVENT
END:VCALENDAR