BEGIN:VCALENDAR
VERSION:2.0
PRODID:-//eventon.com NONSGML v1.0//EN
CALSCALE:GREGORIAN
METHOD:PUBLISH
BEGIN:VEVENT
UID:69e637f23541f
DTSTAMP:20260420T142802Z
DTSTART:20250308T140000Z
DTEND:20250308T170000Z
LOCATION:Complexe Élodie-P.-Babin 2225 route Édouard-VII
SUMMARY:Atelier d'auto-défense
DESCRIPTION:Apprenez des techniques d’autodéfense lors d’un atelier av
 ec simulations d’agressions pour femmes et adolescentes. 95$ &#8211; Insc
 ription requise\nhttps://ville.saintphilippe.quebec/evenement/atelier-dauto
 -defense/
URL:https://ville.saintphilippe.quebec/evenement/atelier-dauto-defense/
END:VEVENT
END:VCALENDAR