BEGIN:VCALENDAR
VERSION:2.0
PRODID:-//eventon.com NONSGML v1.0//EN
CALSCALE:GREGORIAN
METHOD:PUBLISH
BEGIN:VEVENT
UID:69e5ea98cfa52
DTSTAMP:20260420T085800Z
DTSTART:20250211T183000Z
DTEND:20250211T193000Z
LOCATION:Complexe Élodie-P.-Babin 2225 route Édouard-VII
SUMMARY:Les secrets du corps humain
DESCRIPTION:Ton corps\,  tu le connais\,  tu vis dedans depuis toujours. Ma
 is\,  est-ce que tu connais vraiment ses secrets et ses limites ? Ouvrez bi
 en les yeux\,  cet atelier pourrait vous jouer des tours&#8230; Objectif : 
 Découvrir son corps en apprenant à mesurer son pouls et sa respiration. M
 ais aussi découvrir[..]\nhttps://ville.saintphilippe.quebec/evenement/les-
 secrets-du-corps-humain/
URL:https://ville.saintphilippe.quebec/evenement/les-secrets-du-corps-humain/
END:VEVENT
END:VCALENDAR