BEGIN:VCALENDAR
VERSION:2.0
PRODID:-//eventon.com NONSGML v1.0//EN
CALSCALE:GREGORIAN
METHOD:PUBLISH
BEGIN:VEVENT
UID:69e604689843a
DTSTAMP:20260420T104808Z
DTSTART:20250201T103000Z
DTEND:20250201T114500Z
LOCATION:Complexe Élodie-P.-Babin 2225 route Édouard-VII
SUMMARY:Univers Lego : Harry Potter\,  La mission secrète
DESCRIPTION:Les jeunes auront l’opportunité de construire des ensembles 
 LEGO inspirés des scènes emblématiques de la saga d’Harry Potter. Ils 
 pourront donner vie à leur imagination et plonger dans cet univers enchant
 eur grâce à la construction et au jeu créatif. 35 $ &#8211; Inscription 
 obligatoire\nhttps://ville.saintphilippe.quebec/evenement/univers-lego-harr
 y-potter-la-mission-secrete/
URL:https://ville.saintphilippe.quebec/evenement/univers-lego-harry-potter-la-mission-secrete/
END:VEVENT
END:VCALENDAR