BEGIN:VCALENDAR
VERSION:2.0
PRODID:-//eventon.com NONSGML v1.0//EN
CALSCALE:GREGORIAN
METHOD:PUBLISH
BEGIN:VEVENT
UID:69e6041f29496
DTSTAMP:20260420T104655Z
DTSTART:20241107T073000Z
DTEND:20241107T160000Z
LOCATION:Garage municipal 68\,  montée Monette
SUMMARY:Distribution de courges\,  citrouilles\,  bulbes de Cannas et bulbes de Dahlia
DESCRIPTION:Le Service des travaux publics distribue des courges\,  des cit
 rouilles\,  des bulbes de Cannas et des bulbes de Dahlia. Quantité limité
 e\,  limite de 3 par personne. Premier arrivé premier servi. Apportez vos 
 contenants ou sacs réutilisables. Voici comment entretenir les tubercules/
 rhizomes jusqu’au printemps.\nhttps://ville.saintphilippe.quebec/evenemen
 t/distribution-de-courges-citrouilles-bulbes-de-cannas-et-bulbes-de-dahlia/
URL:https://ville.saintphilippe.quebec/evenement/distribution-de-courges-citrouilles-bulbes-de-cannas-et-bulbes-de-dahlia/
END:VEVENT
END:VCALENDAR