BEGIN:VCALENDAR
VERSION:2.0
PRODID:-//eventon.com NONSGML v1.0//EN
CALSCALE:GREGORIAN
METHOD:PUBLISH
BEGIN:VEVENT
UID:69e88bd9a4e85
DTSTAMP:20260422T085033Z
DTSTART:20241201T100000Z
DTEND:20241201T150000Z
LOCATION:
SUMMARY:Guignolée 2024
DESCRIPTION:Dimanche 1er décembre 2024 &#8211; 10 h à 15 h Collecte de de
 nrées et de dons aux portes Vous étiez absents lors du passage de nos bé
 névoles. DÉPOSEZ VOS DENRÉES Du 2 au 19 décembre\,  vous pouvez dépose
 r vos denrées aux endroits suivants\,  durant les heures d’ouverture : S
 ervice des[..]\nhttps://ville.saintphilippe.quebec/evenement/guignolee-2024
 /
URL:https://ville.saintphilippe.quebec/evenement/guignolee-2024/
END:VEVENT
END:VCALENDAR