BEGIN:VCALENDAR
VERSION:2.0
PRODID:-//eventon.com NONSGML v1.0//EN
CALSCALE:GREGORIAN
METHOD:PUBLISH
BEGIN:VEVENT
UID:69e634506f1e9
DTSTAMP:20260420T141232Z
DTSTART:20240623T150000Z
DTEND:20240623T235000Z
LOCATION:Parc Gérard-Laframboise
SUMMARY:Fête nationale 2024
DESCRIPTION:La Ville de Saint-Philippe est fière d’accueillir Marc Hervi
 eux pour les festivités de la Fête nationale du Québec ! Sous le thème 
 « Retrouvons-nous à la belle étoile »\,  la 190e édition de la Fête 
 nationale du Québec invite les québécoises et les québécois à danser 
 et festoyer fièrement lors des[..]\nhttps://ville.saintphilippe.quebec/eve
 nement/fete-nationale-2024/
URL:https://ville.saintphilippe.quebec/evenement/fete-nationale-2024/
END:VEVENT
END:VCALENDAR