BEGIN:VCALENDAR
VERSION:2.0
PRODID:-//eventon.com NONSGML v1.0//EN
CALSCALE:GREGORIAN
METHOD:PUBLISH
BEGIN:VEVENT
UID:69e5ea748082a
DTSTAMP:20260420T085724Z
DTSTART:20240825T130000Z
DTEND:20240825T160000Z
LOCATION:Parc Gérard-Laframboise
SUMMARY:Fête western
DESCRIPTION:Venez faire la fête avec des jeux\,  de l&rsquo;animation et d
 es marchands alimentaires! Profiter de l’ambiance pour passer un après-m
 idi en famille ou entre amis. Au programme: Taureau mécanique Tour de mini
 -chevaux Danse en ligne En cas de pluie\,  l’événement sera annulé.\nh
 ttps://ville.saintphilippe.quebec/evenement/fete-western/
URL:https://ville.saintphilippe.quebec/evenement/fete-western/
END:VEVENT
END:VCALENDAR