BEGIN:VCALENDAR
VERSION:2.0
PRODID:-//eventon.com NONSGML v1.0//EN
CALSCALE:GREGORIAN
METHOD:PUBLISH
BEGIN:VEVENT
UID:69e60508968b7
DTSTAMP:20260420T105048Z
DTSTART:20240615T090000Z
DTEND:20240615T235000Z
LOCATION:Bibliothèque Le Vaisseau d’Or 2223\,  route Édouard-VII\,  Saint-Philippe
SUMMARY:Club de lecture d'été TD 2024
DESCRIPTION:Club de lecture d&rsquo;été TD 2024 Le Club de lecture d’é
 té TD est le plus important programme du genre au Canada. Bilingue et grat
 uit\,  il s’adresse à tous les enfants\,  peu importe leur âge\,  leurs
  goûts et leurs aptitudes. On peut y participer dans plus de 2 000 bibliot
 hèques publiques[..]\nhttps://ville.saintphilippe.quebec/evenement/club-de
 -lecture-dete-td-2024/
URL:https://ville.saintphilippe.quebec/evenement/club-de-lecture-dete-td-2024/
END:VEVENT
END:VCALENDAR