BEGIN:VCALENDAR
VERSION:2.0
PRODID:-//eventon.com NONSGML v1.0//EN
CALSCALE:GREGORIAN
METHOD:PUBLISH
BEGIN:VEVENT
UID:69e633ba4bcd8
DTSTAMP:20260420T141002Z
DTSTART:20240620T190000Z
DTEND:20240620T200000Z
LOCATION:Parc Gérard-Laframboise
SUMMARY:Soirée active | Muay-Thai
DESCRIPTION:En plus des activités que vous aimez\,  découvrez en primeur 
 de nouvelles disciplines qui seront offertes à la programmation de l’aut
 omne. Cette discipline qui s’apparente au kick boxing allie le cardio\,  
 le renforcement\,  la musculation et la coordination. Parfait pour évacuer
  le stress et améliorer sa confiance tout en développant[..]\nhttps://vil
 le.saintphilippe.quebec/evenement/soiree-actives-muay-thai/
URL:https://ville.saintphilippe.quebec/evenement/soiree-actives-muay-thai/
END:VEVENT
END:VCALENDAR