BEGIN:VCALENDAR
VERSION:2.0
PRODID:-//eventon.com NONSGML v1.0//EN
CALSCALE:GREGORIAN
METHOD:PUBLISH
BEGIN:VEVENT
UID:69e731dadeb0f
DTSTAMP:20260421T081418Z
DTSTART:20240829T180000Z
DTEND:20240829T235000Z
LOCATION:Parc Hervé-Perrier (Rémillard)
SUMMARY:Soirée musicale
DESCRIPTION:Laissez-vous porter par la voix douce et posée de Florence Bro
 usseau\,  qui reprendra des succès d’hier à aujourd’hui à travers de
 s arrangements pop et rythm and blues. Apportez vos chaises et votre chasse
 -moustiques. Marchand de glaces sur place pour la première heure. Glace gr
 atuite\,  en quantité limitée. En cas de[..]\nhttps://ville.saintphilippe
 .quebec/evenement/soiree-musicale/
URL:https://ville.saintphilippe.quebec/evenement/soiree-musicale/
END:VEVENT
END:VCALENDAR