BEGIN:VCALENDAR
VERSION:2.0
PRODID:-//eventon.com NONSGML v1.0//EN
CALSCALE:GREGORIAN
METHOD:PUBLISH
BEGIN:VEVENT
UID:69e737e106974
DTSTAMP:20260421T084001Z
DTSTART:20240425T190000Z
DTEND:20240425T235000Z
LOCATION:Bibliothèque Le Vaisseau d’Or 2223\,  route Édouard-VII\,  Saint-Philippe
SUMMARY:Salon du livre de Roussillon en tournée 2024
DESCRIPTION:Le Salon du livre de Roussillon en tournée s&rsquo;arrête à 
 la Bibliothèque « Le Vaisseau d’Or » le 25 avril prochain. Laissez-vou
 s surprendre par les confidences de l’autrice Marie-Christine Chartier et
  apprenez-en davantage sur sa passion pour l’écriture lors de cette caus
 erie animée par Amélie Boivin-Handfield. En savoir plus et[..]\nhttps://v
 ille.saintphilippe.quebec/evenement/salon-du-livre-de-roussillon-en-tournee
 -2024/
URL:https://ville.saintphilippe.quebec/evenement/salon-du-livre-de-roussillon-en-tournee-2024/
END:VEVENT
END:VCALENDAR