BEGIN:VCALENDAR
VERSION:2.0
PRODID:-//eventon.com NONSGML v1.0//EN
CALSCALE:GREGORIAN
METHOD:PUBLISH
BEGIN:VEVENT
UID:69e6045400f16
DTSTAMP:20260420T104748Z
DTSTART:20240422T190000Z
DTEND:20240422T235000Z
LOCATION:Complexe Élodie-P.-Babin 2225 route Édouard-VII
SUMMARY:Assemblée publique de consultation - Règlement numéro 501-23 modifiant le règlement numéro 501 sur le zonage et le lotissement
DESCRIPTION:AVIS PUBLIC &#8211; ASSEMBLÉE PUBLIQUE DE CONSULTATION Lundi\,
   22 avril 2024\,  à 19 h au Complexe Élodie-P.-Babin situé au 2235\,  r
 oute Édouard-VII à Saint-Philippe PROJET DE RÈGLEMENT NUMÉRO 501-23 Aux
  personnes intéressées par le projet de règlement numéro 501-23 modifia
 nt le règlement numéro 501 sur le zonage et le Lotissement.[..]\nhttps://
 ville.saintphilippe.quebec/evenement/assemblee-publique-de-consultation-reg
 lement-numero-501-23-modifiant-le-reglement-numero-501-sur-le-zonage-et-le-
 lotissement/
URL:https://ville.saintphilippe.quebec/evenement/assemblee-publique-de-consultation-reglement-numero-501-23-modifiant-le-reglement-numero-501-sur-le-zonage-et-le-lotissement/
END:VEVENT
END:VCALENDAR