BEGIN:VCALENDAR
VERSION:2.0
PRODID:-//eventon.com NONSGML v1.0//EN
CALSCALE:GREGORIAN
METHOD:PUBLISH
BEGIN:VEVENT
UID:69e73163e054c
DTSTAMP:20260421T081219Z
DTSTART:20240413T103000Z
DTEND:20240413T235000Z
LOCATION:Bibliothèque Le Vaisseau d’Or 2223\,  route Édouard-VII\,  Saint-Philippe
SUMMARY:Zoolecture
DESCRIPTION:La zoolecture est un dérivé de la zoothérapie. Elle permet a
 ux enfants de pratiquer leur habileté de jeune lecteur tout en passant un 
 bon moment avec un animal présent pendant l’atelier. Samedi 13 avril à 
 10 h 30 Samedi 11 mai – avec un poney (Salon du Parc) 1er groupe[..]\nhtt
 ps://ville.saintphilippe.quebec/evenement/zoolecture-3/
URL:https://ville.saintphilippe.quebec/evenement/zoolecture-3/
END:VEVENT
END:VCALENDAR