BEGIN:VCALENDAR
VERSION:2.0
PRODID:-//eventon.com NONSGML v1.0//EN
CALSCALE:GREGORIAN
METHOD:PUBLISH
BEGIN:VEVENT
UID:69e50d9e1e26d
DTSTAMP:20260419T171510Z
DTSTART:20240306T090000Z
DTEND:20240306T100000Z
LOCATION:Complexe Ã‰lodie-P.-Babin 2225 route Ã‰douard-VII
SUMMARY:Initiation au monde animal
DESCRIPTION:ActivitÃ© animÃ©e par Ã‰ducazoo. Les jeunes rencontreront un mÃ
 ©lange dâ€™espÃ¨ces de toutes les classes (reptiles\,  mammifÃ¨res et autre
 s). Une belle activitÃ© pour faire dÃ©couvrir plusieurs espÃ¨ces mÃ©connues
 . PSST&#8230; cette animation se termine par un mini spectacle de furet ! G
 r 1 : 9 h Ã  10 h Gr 2 :[..]\nhttps://ville.saintphilippe.quebec/evenement/
 initiation-au-monde-animal/
URL:https://ville.saintphilippe.quebec/evenement/initiation-au-monde-animal/
END:VEVENT
END:VCALENDAR