BEGIN:VCALENDAR
VERSION:2.0
PRODID:-//eventon.com NONSGML v1.0//EN
CALSCALE:GREGORIAN
METHOD:PUBLISH
BEGIN:VEVENT
UID:69e4c9671d239
DTSTAMP:20260419T122407Z
DTSTART:20240304T133000Z
DTEND:20240304T153000Z
LOCATION:Complexe Élodie-P.-Babin 2225 route Édouard-VII
SUMMARY:Initiation à la magie
DESCRIPTION:Activité animée par Bernard Lebel. Les 3 règles de la magie 
 et maîtrise de 1 à 3 trucs se faisant avec des objets de tous les jours. 
 Gratuit – Inscription en ligne obligatoire dès le 5 février\nhttps://vi
 lle.saintphilippe.quebec/evenement/initiation-a-la-magie/
URL:https://ville.saintphilippe.quebec/evenement/initiation-a-la-magie/
END:VEVENT
END:VCALENDAR