BEGIN:VCALENDAR
VERSION:2.0
PRODID:-//eventon.com NONSGML v1.0//EN
CALSCALE:GREGORIAN
METHOD:PUBLISH
BEGIN:VEVENT
UID:69e4f79f36b6e
DTSTAMP:20260419T154119Z
DTSTART:20240304T133000Z
DTEND:20240304T153000Z
LOCATION:Complexe Élodie-P.-Babin 2225 route Édouard-VII
SUMMARY:Atelier jeu clownesque
DESCRIPTION:C’est quoi un clown ? Jeu de démarches et d’expressions et
  entrées clownesques. &nbsp; Gratuit – Inscription en ligne obligatoire 
 dès le 5 février\nhttps://ville.saintphilippe.quebec/evenement/atelier-je
 u-clownesque/
URL:https://ville.saintphilippe.quebec/evenement/atelier-jeu-clownesque/
END:VEVENT
END:VCALENDAR