BEGIN:VCALENDAR
VERSION:2.0
PRODID:-//eventon.com NONSGML v1.0//EN
CALSCALE:GREGORIAN
METHOD:PUBLISH
BEGIN:VEVENT
UID:69e53c81f20cd
DTSTAMP:20260419T203513Z
DTSTART:20240109T190000Z
DTEND:20240109T235000Z
LOCATION:Complexe Élodie-P.-Babin 2225 route Édouard-VII
SUMMARY:Assemblée publique de consultation - Règlement numéro 501-21 modifiant le règlement numéro 501 sur le zonage et le lotissement
DESCRIPTION:AVIS PUBLIC &#8211; ASSEMBLÉE PUBLIQUE DE CONSULTATION Mardi\,
   9 janvier 2024\,  à 19 h au Complexe Élodie-P.-Babin situé au 2235\,  
 route Édouard-VII à Saint-Philippe PROJET DE RÈGLEMENT NUMÉRO 501-21 Au
 x personnes intéressées par le projet de règlement numéro 501-21 modifi
 ant le règlement numéro 501 sur le zonage et le lotissement.[..]\nhttps:/
 /ville.saintphilippe.quebec/evenement/assemblee-publique-de-consultation-re
 glement-numero-501-21-modifiant-le-reglement-numero-501-sur-le-zonage-et-le
 -lotissement/
URL:https://ville.saintphilippe.quebec/evenement/assemblee-publique-de-consultation-reglement-numero-501-21-modifiant-le-reglement-numero-501-sur-le-zonage-et-le-lotissement/
END:VEVENT
END:VCALENDAR