BEGIN:VCALENDAR
VERSION:2.0
PRODID:-//eventon.com NONSGML v1.0//EN
CALSCALE:GREGORIAN
METHOD:PUBLISH
BEGIN:VEVENT
UID:69e73164c3bbf
DTSTAMP:20260421T081220Z
DTSTART:20240313T183000Z
DTEND:20240313T235000Z
LOCATION:Bibliothèque Le Vaisseau d’Or 2223\,  route Édouard-VII\,  Saint-Philippe
SUMMARY:Éclipse totale : Comment bien s'y préparer
DESCRIPTION:Le 8 avril prochain\,  une éclipse solaire totale se dérouler
 a dans le sud du Québec et pourra être observée. Les astronomes professi
 onnels du SAMO partageront avec nous tous les trucs et astuces pour bien pr
 ofiter\,  en toute sécurité\,  de ce rare phénomène. Gratuit &#8211; In
 scription en ligne SportPlus Gratuit &#8211;[..]\nhttps://ville.saintphilip
 pe.quebec/evenement/eclipse-totale-comment-bien-sy-preparer/
URL:https://ville.saintphilippe.quebec/evenement/eclipse-totale-comment-bien-sy-preparer/
END:VEVENT
END:VCALENDAR