BEGIN:VCALENDAR
VERSION:2.0
PRODID:-//eventon.com NONSGML v1.0//EN
CALSCALE:GREGORIAN
METHOD:PUBLISH
BEGIN:VEVENT
UID:69e5edecec55d
DTSTAMP:20260420T091212Z
DTSTART:20240227T183000Z
DTEND:20240227T235000Z
LOCATION:Bibliothèque Le Vaisseau d’Or 2223\,  route Édouard-VII\,  Saint-Philippe
SUMMARY:L'anxiété chez nos enfants\,  que puis-je faire en tant que parent?
DESCRIPTION:Cet atelier s’adresse à tous les parents qui souhaitent s’
 outiller en lien avec l’anxiété de leurs enfants et de leurs adolescent
 s. Atelier offert en collaboration avec le CISSS de la Montérégie-Centre.
  Gratuit &#8211; Inscription requise 450 659-7701\,  poste 233 bibliotheque
 @ville.saintphilippe.quebec\nhttps://ville.saintphilippe.quebec/evenement/l
 anxiete-chez-nos-enfants-que-puis-je-faire-en-tant-que-parent/
URL:https://ville.saintphilippe.quebec/evenement/lanxiete-chez-nos-enfants-que-puis-je-faire-en-tant-que-parent/
END:VEVENT
END:VCALENDAR