BEGIN:VCALENDAR
VERSION:2.0
PRODID:-//eventon.com NONSGML v1.0//EN
CALSCALE:GREGORIAN
METHOD:PUBLISH
BEGIN:VEVENT
UID:69e622debabd9
DTSTAMP:20260420T125806Z
DTSTART:20240203
DTEND:20240204
LOCATION:BibliothÃ¨que Le Vaisseau dâ€™Or 2223\,  route Ã‰douard-VII\,  Saint-Philippe
SUMMARY:StationConte - Conte interactif pour les enfants
DESCRIPTION:Les StationConte sont des postes dâ€™Ã©coute de contes interact
 ifs conÃ§us pour rÃ©jouir les enfants et nourrir leur imaginaire avec des c
 ontes captivants. 15 minutes et plus\,  selon les choix faits lors de lâ€™Ã
 ©coute EntrÃ©e libre sur les heures dâ€™ouverture de la bibliothÃ¨que Â« Le
  Vaisseau dâ€™Or Â»\nhttps://ville.saintphilippe.quebec/evenement/stationco
 nte-conte-interactif-pour-les-enfants/
URL:https://ville.saintphilippe.quebec/evenement/stationconte-conte-interactif-pour-les-enfants/
END:VEVENT
END:VCALENDAR