BEGIN:VCALENDAR
VERSION:2.0
PRODID:-//eventon.com NONSGML v1.0//EN
CALSCALE:GREGORIAN
METHOD:PUBLISH
BEGIN:VEVENT
UID:69e4df7c32b1f
DTSTAMP:20260419T135820Z
DTSTART:20240203T103000Z
DTEND:20240203T235000Z
LOCATION:Bibliothèque Le Vaisseau d’Or 2223\,  route Édouard-VII\,  Saint-Philippe
SUMMARY:Spectacle familial Le petit robot
DESCRIPTION:Dans ce spectacle\,  les spectateurs ont le pouvoir de prendre 
 des décisions importantes qui influencent le déroulement de l’histoire.
  Avec sept fins distinctes et plus d’une douzaine de variations possibles
 \,  chaque représentation devient une expérience unique. Gratuit &#8211; 
 Inscription en ligne SportPlus\nhttps://ville.saintphilippe.quebec/evenemen
 t/spectacle-familial-le-petit-robot/
URL:https://ville.saintphilippe.quebec/evenement/spectacle-familial-le-petit-robot/
END:VEVENT
END:VCALENDAR