BEGIN:VCALENDAR
VERSION:2.0
PRODID:-//eventon.com NONSGML v1.0//EN
CALSCALE:GREGORIAN
METHOD:PUBLISH
BEGIN:VEVENT
UID:69e88c22b5054
DTSTAMP:20260422T085146Z
DTSTART:20240113T103000Z
DTEND:20240113T111500Z
LOCATION:Bibliothèque Le Vaisseau d’Or 2223\,  route Édouard-VII\,  Saint-Philippe
SUMMARY:Zoolecture
DESCRIPTION:La zoolecture est un dérivé de la zoothérapie. Elle permet a
 ux enfants de pratiquer leur habileté de jeune lecteur tout en passant un 
 bon moment avec un animal présent pendant l’atelier. Gratuit – places 
 limitées Inscription obligatoire 450 659-7701\,  poste 233 bibliotheque@vi
 lle.saintphilippe.quebec\nhttps://ville.saintphilippe.quebec/evenement/zool
 ecture-2/
URL:https://ville.saintphilippe.quebec/evenement/zoolecture-2/
END:VEVENT
END:VCALENDAR