BEGIN:VCALENDAR
VERSION:2.0
PRODID:-//eventon.com NONSGML v1.0//EN
CALSCALE:GREGORIAN
METHOD:PUBLISH
BEGIN:VEVENT
UID:69e5250d90ef8
DTSTAMP:20260419T185509Z
DTSTART:20240210T140000Z
DTEND:20240210T153000Z
LOCATION:Complexe Élodie-P.-Babin 2225 route Édouard-VII
SUMMARY:Le monde des toupies par Kokobrik
DESCRIPTION:Apprenez à créer des toupies incroyables en un clin d’œil.
  Découvrez les secrets de construction grâce aux pièces Lego et laissez 
 libre cours à votre imagination. Défiez vos amis avec des toupies uniques
  et amusantes. 30$ – réservation requise\nhttps://ville.saintphilippe.qu
 ebec/evenement/le-monde-des-toupies-par-kokobrik/
URL:https://ville.saintphilippe.quebec/evenement/le-monde-des-toupies-par-kokobrik/
END:VEVENT
END:VCALENDAR